Package: SpaceTrooper Version: 1.0.0 Maintainer: Dario Righelli MaintainerEmail: dario.righelli at gmail.com git_url: https://git.bioconductor.org/packages/SpaceTrooper git_branch: RELEASE_3_22 git_last_commit: 88c0696 git_last_commit_date: 2025-10-29 11:37:03 -0500 (Wed, 29 Oct 2025)