Package: SpaNorm Version: 1.3.1 Command: /home/biocbuild/R/R/bin/R CMD check --install=check:SpaNorm.install-out.txt --library=/home/biocbuild/R/R/site-library --no-vignettes --timings SpaNorm_1.3.1.tar.gz StartedAt: 2025-10-17 13:52:46 -0000 (Fri, 17 Oct 2025) EndedAt: 2025-10-17 13:54:37 -0000 (Fri, 17 Oct 2025) EllapsedTime: 111.1 seconds RetCode: 0 Status: OK CheckDir: SpaNorm.Rcheck Warnings: 0