Package: SpaNorm Version: 1.4.0 Command: /home/biocbuild/bbs-3.22-bioc/R/bin/R CMD INSTALL SpaNorm StartedAt: 2025-11-09 15:58:09 -0500 (Sun, 09 Nov 2025) EndedAt: 2025-11-09 15:58:12 -0500 (Sun, 09 Nov 2025) EllapsedTime: 3.0 seconds RetCode: 0 Status: OK