Package: SpaNorm Version: 1.4.0 Command: /Library/Frameworks/R.framework/Resources/bin/R CMD check --install=check:SpaNorm.install-out.txt --library=/Library/Frameworks/R.framework/Resources/library --no-vignettes --timings SpaNorm_1.4.0.tar.gz StartedAt: 2025-10-31 22:16:11 -0400 (Fri, 31 Oct 2025) EndedAt: 2025-10-31 22:16:50 -0400 (Fri, 31 Oct 2025) EllapsedTime: 38.4 seconds RetCode: 0 Status: OK CheckDir: SpaNorm.Rcheck Warnings: 0