Package: SomaticSignatures Version: 2.46.0 Command: /home/biocbuild/R/R/bin/R CMD INSTALL SomaticSignatures StartedAt: 2025-11-13 21:54:17 -0000 (Thu, 13 Nov 2025) EndedAt: 2025-11-13 21:55:29 -0000 (Thu, 13 Nov 2025) EllapsedTime: 71.3 seconds RetCode: 0 Status: OK