Package: SomaticSignatures Version: 2.46.0 Command: /home/biocbuild/R/R/bin/R CMD check --install=check:SomaticSignatures.install-out.txt --library=/home/biocbuild/R/R/site-library --no-vignettes --timings SomaticSignatures_2.46.0.tar.gz StartedAt: 2025-11-14 14:58:03 -0000 (Fri, 14 Nov 2025) EndedAt: 2025-11-14 15:09:28 -0000 (Fri, 14 Nov 2025) EllapsedTime: 685.1 seconds RetCode: 0 Status: OK CheckDir: SomaticSignatures.Rcheck Warnings: 0