Package: SmartPhos Version: 0.99.30 Command: /home/biocbuild/R/R/bin/R CMD build --keep-empty-dirs --no-resave-data SmartPhos StartedAt: 2025-10-21 03:15:47 -0000 (Tue, 21 Oct 2025) EndedAt: 2025-10-21 03:18:23 -0000 (Tue, 21 Oct 2025) EllapsedTime: 156.1 seconds RetCode: 0 Status: OK PackageFile: SmartPhos_0.99.30.tar.gz PackageFileSize: 19.55 MiB