Package: SmartPhos Version: 1.0.0 Command: /home/biocbuild/bbs-3.22-bioc/R/bin/R CMD INSTALL SmartPhos StartedAt: 2025-11-03 15:37:34 -0500 (Mon, 03 Nov 2025) EndedAt: 2025-11-03 15:38:06 -0500 (Mon, 03 Nov 2025) EllapsedTime: 32.3 seconds RetCode: 0 Status: OK