Package: SmartPhos Version: 1.0.0 Command: /Library/Frameworks/R.framework/Resources/bin/R CMD INSTALL SmartPhos StartedAt: 2025-11-03 15:39:15 -0500 (Mon, 03 Nov 2025) EndedAt: 2025-11-03 15:40:00 -0500 (Mon, 03 Nov 2025) EllapsedTime: 44.7 seconds RetCode: 0 Status: OK