Package: SmartPhos Version: 1.0.0 Command: /Library/Frameworks/R.framework/Resources/bin/R CMD build --keep-empty-dirs --no-resave-data SmartPhos StartedAt: 2025-11-03 18:51:15 -0500 (Mon, 03 Nov 2025) EndedAt: 2025-11-03 18:53:24 -0500 (Mon, 03 Nov 2025) EllapsedTime: 129.1 seconds RetCode: 0 Status: OK PackageFile: SmartPhos_1.0.0.tar.gz PackageFileSize: 20.16 MiB