Package: SmartPhos Version: 1.0.0 Command: /Library/Frameworks/R.framework/Resources/bin/R CMD check --install=check:SmartPhos.install-out.txt --library=/Library/Frameworks/R.framework/Resources/library --no-vignettes --timings SmartPhos_1.0.0.tar.gz StartedAt: 2025-11-04 22:11:01 -0500 (Tue, 04 Nov 2025) EndedAt: 2025-11-04 22:13:00 -0500 (Tue, 04 Nov 2025) EllapsedTime: 119.3 seconds RetCode: 0 Status: OK CheckDir: SmartPhos.Rcheck Warnings: 0