Package: Site2Target Version: 1.2.0 Command: /home/biocbuild/bbs-3.22-bioc/R/bin/R CMD check --install=check:Site2Target.install-out.txt --library=/home/biocbuild/bbs-3.22-bioc/R/site-library --timings Site2Target_1.2.0.tar.gz StartedAt: 2025-11-07 04:10:49 -0500 (Fri, 07 Nov 2025) EndedAt: 2025-11-07 04:12:23 -0500 (Fri, 07 Nov 2025) EllapsedTime: 94.1 seconds RetCode: 0 Status: OK CheckDir: Site2Target.Rcheck Warnings: 0