Package: Site2Target Version: 1.2.0 Command: /home/biocbuild/bbs-3.22-bioc/R/bin/R CMD build --keep-empty-dirs --no-resave-data --md5 Site2Target StartedAt: 2025-11-06 20:08:43 -0500 (Thu, 06 Nov 2025) EndedAt: 2025-11-06 20:09:13 -0500 (Thu, 06 Nov 2025) EllapsedTime: 30.0 seconds RetCode: 0 Status: OK PackageFile: Site2Target_1.2.0.tar.gz PackageFileSize: 443.3 KiB