Package: Site2Target Version: 1.2.0 Command: /Library/Frameworks/R.framework/Resources/bin/R CMD check --install=check:Site2Target.install-out.txt --library=/Library/Frameworks/R.framework/Resources/library --no-vignettes --timings Site2Target_1.2.0.tar.gz StartedAt: 2025-11-06 22:10:03 -0500 (Thu, 06 Nov 2025) EndedAt: 2025-11-06 22:10:33 -0500 (Thu, 06 Nov 2025) EllapsedTime: 30.4 seconds RetCode: 0 Status: OK CheckDir: Site2Target.Rcheck Warnings: 0