Package: Site2Target Version: 1.2.0 Command: /Library/Frameworks/R.framework/Resources/bin/R CMD build --keep-empty-dirs --no-resave-data Site2Target StartedAt: 2025-11-06 17:46:56 -0500 (Thu, 06 Nov 2025) EndedAt: 2025-11-06 17:47:10 -0500 (Thu, 06 Nov 2025) EllapsedTime: 13.2 seconds RetCode: 0 Status: OK PackageFile: Site2Target_1.2.0.tar.gz PackageFileSize: 441.7 KiB