Package: Site2Target Version: 1.2.0 Command: rm -rf Site2Target.buildbin-libdir && mkdir Site2Target.buildbin-libdir && /Users/biocbuild/BBS/utils/build-universal.sh Site2Target_1.2.0.tar.gz /Library/Frameworks/R.framework/Resources/bin/R Site2Target.buildbin-libdir StartedAt: 2025-11-06 23:22:21 -0500 (Thu, 06 Nov 2025) EndedAt: 2025-11-06 23:22:23 -0500 (Thu, 06 Nov 2025) EllapsedTime: 2.0 seconds RetCode: 0 Status: OK PackageFile: Site2Target_1.2.0.tgz PackageFileSize: 510.8 KiB