Package: SingleR Version: 2.12.0 Command: /Library/Frameworks/R.framework/Resources/bin/R CMD check --install=check:SingleR.install-out.txt --library=/Library/Frameworks/R.framework/Resources/library --no-vignettes --timings SingleR_2.12.0.tar.gz StartedAt: 2025-10-31 22:11:17 -0400 (Fri, 31 Oct 2025) EndedAt: 2025-10-31 22:13:02 -0400 (Fri, 31 Oct 2025) EllapsedTime: 105.2 seconds RetCode: 0 Status: OK CheckDir: SingleR.Rcheck Warnings: 0