Package: SingleR Version: 2.12.0 Command: /Library/Frameworks/R.framework/Resources/bin/R CMD build --keep-empty-dirs --no-resave-data SingleR StartedAt: 2025-10-31 17:50:32 -0400 (Fri, 31 Oct 2025) EndedAt: 2025-10-31 17:51:14 -0400 (Fri, 31 Oct 2025) EllapsedTime: 41.5 seconds RetCode: 0 Status: OK PackageFile: SingleR_2.12.0.tar.gz PackageFileSize: 742.3 KiB