Package: SingleMoleculeFootprinting Version: 2.4.0 Command: /home/biocbuild/bbs-3.22-bioc/R/bin/R CMD INSTALL SingleMoleculeFootprinting StartedAt: 2025-11-06 15:58:41 -0500 (Thu, 06 Nov 2025) EndedAt: 2025-11-06 15:59:34 -0500 (Thu, 06 Nov 2025) EllapsedTime: 52.5 seconds RetCode: 0 Status: OK