Package: SingleMoleculeFootprinting Version: 2.4.0 Command: /home/biocbuild/bbs-3.22-bioc/R/bin/R CMD check --install=check:SingleMoleculeFootprinting.install-out.txt --library=/home/biocbuild/bbs-3.22-bioc/R/site-library --timings SingleMoleculeFootprinting_2.4.0.tar.gz StartedAt: 2025-11-07 04:08:55 -0500 (Fri, 07 Nov 2025) EndedAt: 2025-11-07 04:18:16 -0500 (Fri, 07 Nov 2025) EllapsedTime: 560.5 seconds RetCode: 0 Status: OK CheckDir: SingleMoleculeFootprinting.Rcheck Warnings: 0