Package: SingleCellAlleleExperiment Version: 1.4.0 Command: /Library/Frameworks/R.framework/Resources/bin/R CMD check --install=check:SingleCellAlleleExperiment.install-out.txt --library=/Library/Frameworks/R.framework/Resources/library --no-vignettes --timings SingleCellAlleleExperiment_1.4.0.tar.gz StartedAt: 2025-04-21 23:37:01 -0400 (Mon, 21 Apr 2025) EndedAt: 2025-04-21 23:46:59 -0400 (Mon, 21 Apr 2025) EllapsedTime: 598.0 seconds RetCode: 0 Status: OK CheckDir: SingleCellAlleleExperiment.Rcheck Warnings: 0