Package: SingleCellAlleleExperiment Version: 1.4.0 Command: rm -rf SingleCellAlleleExperiment.buildbin-libdir && mkdir SingleCellAlleleExperiment.buildbin-libdir && /Users/biocbuild/BBS/utils/build-universal.sh SingleCellAlleleExperiment_1.4.0.tar.gz /Library/Frameworks/R.framework/Resources/bin/R SingleCellAlleleExperiment.buildbin-libdir StartedAt: 2025-04-22 01:09:48 -0400 (Tue, 22 Apr 2025) EndedAt: 2025-04-22 01:10:26 -0400 (Tue, 22 Apr 2025) EllapsedTime: 37.9 seconds RetCode: 0 Status: OK PackageFile: SingleCellAlleleExperiment_1.4.0.tgz PackageFileSize: 1.912 MiB