Package: SingleCellAlleleExperiment Version: 1.4.1 Command: /home/biocbuild/R/R/bin/R CMD check --install=check:SingleCellAlleleExperiment.install-out.txt --library=/home/biocbuild/R/R/site-library --no-vignettes --timings SingleCellAlleleExperiment_1.4.1.tar.gz StartedAt: 2025-10-14 14:21:02 -0000 (Tue, 14 Oct 2025) EndedAt: 2025-10-14 14:35:25 -0000 (Tue, 14 Oct 2025) EllapsedTime: 862.2 seconds RetCode: 0 Status: OK CheckDir: SingleCellAlleleExperiment.Rcheck Warnings: 0