Package: SimBu Version: 1.11.0 Command: /home/biocbuild/R/R/bin/R CMD INSTALL SimBu StartedAt: 2025-10-23 20:36:52 -0000 (Thu, 23 Oct 2025) EndedAt: 2025-10-23 20:36:59 -0000 (Thu, 23 Oct 2025) EllapsedTime: 7.1 seconds RetCode: 0 Status: OK