Package: SimBu Version: 1.12.0 Command: /home/biocbuild/bbs-3.22-bioc/R/bin/R CMD INSTALL SimBu StartedAt: 2025-11-10 15:22:00 -0500 (Mon, 10 Nov 2025) EndedAt: 2025-11-10 15:22:05 -0500 (Mon, 10 Nov 2025) EllapsedTime: 5.1 seconds RetCode: 0 Status: OK