Package: SimBu Version: 1.12.0 Command: /home/biocbuild/bbs-3.22-bioc/R/bin/R CMD check --install=check:SimBu.install-out.txt --library=/home/biocbuild/bbs-3.22-bioc/R/site-library --timings SimBu_1.12.0.tar.gz StartedAt: 2025-11-10 04:20:26 -0500 (Mon, 10 Nov 2025) EndedAt: 2025-11-10 04:23:57 -0500 (Mon, 10 Nov 2025) EllapsedTime: 211.2 seconds RetCode: 0 Status: OK CheckDir: SimBu.Rcheck Warnings: 0