Package: SigsPack Version: 1.23.0 Command: /home/biocbuild/R/R/bin/R CMD build --keep-empty-dirs --no-resave-data SigsPack StartedAt: 2025-10-21 03:10:51 -0000 (Tue, 21 Oct 2025) EndedAt: 2025-10-21 03:12:42 -0000 (Tue, 21 Oct 2025) EllapsedTime: 111.0 seconds RetCode: 0 Status: OK PackageFile: SigsPack_1.23.0.tar.gz PackageFileSize: 473.4 KiB