Package: SigsPack Version: 1.23.0 Command: F:\biocbuild\bbs-3.22-bioc\R\bin\R.exe CMD INSTALL SigsPack StartedAt: 2025-08-14 16:40:46 -0400 (Thu, 14 Aug 2025) EndedAt: 2025-08-14 16:40:56 -0400 (Thu, 14 Aug 2025) EllapsedTime: 10.2 seconds RetCode: 0 Status: OK