Package: SigFuge Version: 1.48.0 Command: /home/biocbuild/bbs-3.22-bioc/R/bin/R CMD build --keep-empty-dirs --no-resave-data --md5 SigFuge StartedAt: 2025-11-06 20:04:49 -0500 (Thu, 06 Nov 2025) EndedAt: 2025-11-06 20:05:27 -0500 (Thu, 06 Nov 2025) EllapsedTime: 38.0 seconds RetCode: 1 Status: ERROR PackageFile: None PackageFileSize: NA