Package: SigFuge Version: 1.48.0 Command: /Library/Frameworks/R.framework/Resources/bin/R CMD INSTALL SigFuge StartedAt: 2025-11-03 15:22:10 -0500 (Mon, 03 Nov 2025) EndedAt: 2025-11-03 15:22:27 -0500 (Mon, 03 Nov 2025) EllapsedTime: 16.5 seconds RetCode: 0 Status: OK