Package: SigFuge Version: 1.48.0 Command: /Library/Frameworks/R.framework/Resources/bin/R CMD build --keep-empty-dirs --no-resave-data SigFuge StartedAt: 2025-11-03 18:48:06 -0500 (Mon, 03 Nov 2025) EndedAt: 2025-11-03 18:48:51 -0500 (Mon, 03 Nov 2025) EllapsedTime: 44.4 seconds RetCode: 1 Status: ERROR PackageFile: None PackageFileSize: NA