Package: SigFuge Version: 1.48.0 Maintainer: Patrick Kimes MaintainerEmail: patrick.kimes at gmail.com git_url: https://git.bioconductor.org/packages/SigFuge git_branch: RELEASE_3_22 git_last_commit: 1808380 git_last_commit_date: 2025-10-29 10:15:33 -0500 (Wed, 29 Oct 2025)