Package: SigCheck Version: 2.40.0 Command: E:\biocbuild\bbs-3.21-bioc\R\bin\R.exe CMD INSTALL SigCheck StartedAt: 2025-08-14 16:21:29 -0400 (Thu, 14 Aug 2025) EndedAt: 2025-08-14 16:22:24 -0400 (Thu, 14 Aug 2025) EllapsedTime: 55.0 seconds RetCode: 0 Status: OK