Package: SharedObject Version: 1.23.0 Command: F:\biocbuild\bbs-3.22-bioc\R\bin\R.exe CMD check --no-multiarch --install=check:SharedObject.install-out.txt --library=F:\biocbuild\bbs-3.22-bioc\R\library --no-vignettes --timings SharedObject_1.23.0.tar.gz StartedAt: 2025-08-15 07:51:18 -0400 (Fri, 15 Aug 2025) EndedAt: 2025-08-15 07:53:14 -0400 (Fri, 15 Aug 2025) EllapsedTime: 115.9 seconds RetCode: 0 Status: WARNINGS CheckDir: SharedObject.Rcheck Warnings: 1