Package: SharedObject Version: 1.24.0 Command: /home/biocbuild/bbs-3.22-bioc/R/bin/R CMD check --install=check:SharedObject.install-out.txt --library=/home/biocbuild/bbs-3.22-bioc/R/site-library --timings SharedObject_1.24.0.tar.gz StartedAt: 2025-11-10 04:16:46 -0500 (Mon, 10 Nov 2025) EndedAt: 2025-11-10 04:18:06 -0500 (Mon, 10 Nov 2025) EllapsedTime: 80.1 seconds RetCode: 0 Status: WARNINGS CheckDir: SharedObject.Rcheck Warnings: 2