Package: Seqinfo Version: 1.0.0 Command: /Library/Frameworks/R.framework/Resources/bin/R CMD check --install=check:Seqinfo.install-out.txt --library=/Library/Frameworks/R.framework/Resources/library --no-vignettes --timings Seqinfo_1.0.0.tar.gz StartedAt: 2025-11-10 22:20:16 -0500 (Mon, 10 Nov 2025) EndedAt: 2025-11-10 22:20:46 -0500 (Mon, 10 Nov 2025) EllapsedTime: 29.4 seconds RetCode: 0 Status: OK CheckDir: Seqinfo.Rcheck Warnings: 0