Package: SeqGSEA Version: 1.48.0 Command: rm -rf SeqGSEA.buildbin-libdir && mkdir SeqGSEA.buildbin-libdir && /Users/biocbuild/BBS/utils/build-universal.sh SeqGSEA_1.48.0.tar.gz /Library/Frameworks/R.framework/Resources/bin/R SeqGSEA.buildbin-libdir StartedAt: 2025-10-14 14:46:24 -0400 (Tue, 14 Oct 2025) EndedAt: 2025-10-14 14:47:53 -0400 (Tue, 14 Oct 2025) EllapsedTime: 89.8 seconds RetCode: 0 Status: OK PackageFile: SeqGSEA_1.48.0.tgz PackageFileSize: 2.083 MiB