Package: SamSPECTRAL Version: 1.62.0 Command: E:\biocbuild\bbs-3.21-bioc\R\bin\R.exe CMD INSTALL SamSPECTRAL StartedAt: 2025-08-14 15:18:40 -0400 (Thu, 14 Aug 2025) EndedAt: 2025-08-14 15:19:06 -0400 (Thu, 14 Aug 2025) EllapsedTime: 25.9 seconds RetCode: 0 Status: OK