Package: SVP Version: 1.2.1 Command: /home/biocbuild/R/R/bin/R CMD INSTALL SVP StartedAt: 2025-11-17 21:26:59 -0000 (Mon, 17 Nov 2025) EndedAt: 2025-11-17 21:31:04 -0000 (Mon, 17 Nov 2025) EllapsedTime: 244.8 seconds RetCode: 0 Status: OK