############################################################################## ############################################################################## ### ### Running command: ### ### /home/biocbuild/R/R/bin/R CMD INSTALL SVP ### ############################################################################## ############################################################################## * installing to library ‘/home/biocbuild/R/R-4.5.0/site-library’ * installing *source* package ‘SVP’ ... ** this is package ‘SVP’ version ‘1.2.1’ ** using staged installation ** libs using C++ compiler: ‘aarch64-unknown-linux-gnu-g++ (GCC) 14.2.0’ /opt/ohpc/pub/compiler/gcc/14.2.0/bin/aarch64-unknown-linux-gnu-g++ -std=gnu++17 -I"/home/biocbuild/R/R-4.5.0/include" -DNDEBUG -I'/home/biocbuild/R/R-4.5.0/site-library/Rcpp/include' -I'/home/biocbuild/R/R-4.5.0/site-library/RcppArmadillo/include' -I'/home/biocbuild/R/R-4.5.0/site-library/RcppParallel/include' -I'/home/biocbuild/R/R-4.5.0/site-library/RcppEigen/include' -I'/home/biocbuild/R/R-4.5.0/site-library/dqrng/include' -I/usr/local/include -fopenmp -DARMA_64BIT_WORD -DNDEBUG -DEIGEN_DONT_VECTORIZE -fPIC -g -O2 -Wall -Werror=format-security -c RcppExports.cpp -o RcppExports.o /opt/ohpc/pub/compiler/gcc/14.2.0/bin/aarch64-unknown-linux-gnu-g++ -std=gnu++17 -I"/home/biocbuild/R/R-4.5.0/include" -DNDEBUG -I'/home/biocbuild/R/R-4.5.0/site-library/Rcpp/include' -I'/home/biocbuild/R/R-4.5.0/site-library/RcppArmadillo/include' -I'/home/biocbuild/R/R-4.5.0/site-library/RcppParallel/include' -I'/home/biocbuild/R/R-4.5.0/site-library/RcppEigen/include' -I'/home/biocbuild/R/R-4.5.0/site-library/dqrng/include' -I/usr/local/include -fopenmp -DARMA_64BIT_WORD -DNDEBUG -DEIGEN_DONT_VECTORIZE -fPIC -g -O2 -Wall -Werror=format-security -c autocorutils.cpp -o autocorutils.o /opt/ohpc/pub/compiler/gcc/14.2.0/bin/aarch64-unknown-linux-gnu-g++ -std=gnu++17 -I"/home/biocbuild/R/R-4.5.0/include" -DNDEBUG -I'/home/biocbuild/R/R-4.5.0/site-library/Rcpp/include' -I'/home/biocbuild/R/R-4.5.0/site-library/RcppArmadillo/include' -I'/home/biocbuild/R/R-4.5.0/site-library/RcppParallel/include' -I'/home/biocbuild/R/R-4.5.0/site-library/RcppEigen/include' -I'/home/biocbuild/R/R-4.5.0/site-library/dqrng/include' -I/usr/local/include -fopenmp -DARMA_64BIT_WORD -DNDEBUG -DEIGEN_DONT_VECTORIZE -fPIC -g -O2 -Wall -Werror=format-security -c bisp.cpp -o bisp.o /opt/ohpc/pub/compiler/gcc/14.2.0/bin/aarch64-unknown-linux-gnu-g++ -std=gnu++17 -I"/home/biocbuild/R/R-4.5.0/include" -DNDEBUG -I'/home/biocbuild/R/R-4.5.0/site-library/Rcpp/include' -I'/home/biocbuild/R/R-4.5.0/site-library/RcppArmadillo/include' -I'/home/biocbuild/R/R-4.5.0/site-library/RcppParallel/include' -I'/home/biocbuild/R/R-4.5.0/site-library/RcppEigen/include' -I'/home/biocbuild/R/R-4.5.0/site-library/dqrng/include' -I/usr/local/include -fopenmp -DARMA_64BIT_WORD -DNDEBUG -DEIGEN_DONT_VECTORIZE -fPIC -g -O2 -Wall -Werror=format-security -c cor.cpp -o cor.o /opt/ohpc/pub/compiler/gcc/14.2.0/bin/aarch64-unknown-linux-gnu-g++ -std=gnu++17 -I"/home/biocbuild/R/R-4.5.0/include" -DNDEBUG -I'/home/biocbuild/R/R-4.5.0/site-library/Rcpp/include' -I'/home/biocbuild/R/R-4.5.0/site-library/RcppArmadillo/include' -I'/home/biocbuild/R/R-4.5.0/site-library/RcppParallel/include' -I'/home/biocbuild/R/R-4.5.0/site-library/RcppEigen/include' -I'/home/biocbuild/R/R-4.5.0/site-library/dqrng/include' -I/usr/local/include -fopenmp -DARMA_64BIT_WORD -DNDEBUG -DEIGEN_DONT_VECTORIZE -fPIC -g -O2 -Wall -Werror=format-security -c extract.cpp -o extract.o /opt/ohpc/pub/compiler/gcc/14.2.0/bin/aarch64-unknown-linux-gnu-g++ -std=gnu++17 -I"/home/biocbuild/R/R-4.5.0/include" -DNDEBUG -I'/home/biocbuild/R/R-4.5.0/site-library/Rcpp/include' -I'/home/biocbuild/R/R-4.5.0/site-library/RcppArmadillo/include' -I'/home/biocbuild/R/R-4.5.0/site-library/RcppParallel/include' -I'/home/biocbuild/R/R-4.5.0/site-library/RcppEigen/include' -I'/home/biocbuild/R/R-4.5.0/site-library/dqrng/include' -I/usr/local/include -fopenmp -DARMA_64BIT_WORD -DNDEBUG -DEIGEN_DONT_VECTORIZE -fPIC -g -O2 -Wall -Werror=format-security -c gearysc.cpp -o gearysc.o /opt/ohpc/pub/compiler/gcc/14.2.0/bin/aarch64-unknown-linux-gnu-g++ -std=gnu++17 -I"/home/biocbuild/R/R-4.5.0/include" -DNDEBUG -I'/home/biocbuild/R/R-4.5.0/site-library/Rcpp/include' -I'/home/biocbuild/R/R-4.5.0/site-library/RcppArmadillo/include' -I'/home/biocbuild/R/R-4.5.0/site-library/RcppParallel/include' -I'/home/biocbuild/R/R-4.5.0/site-library/RcppEigen/include' -I'/home/biocbuild/R/R-4.5.0/site-library/dqrng/include' -I/usr/local/include -fopenmp -DARMA_64BIT_WORD -DNDEBUG -DEIGEN_DONT_VECTORIZE -fPIC -g -O2 -Wall -Werror=format-security -c getisord.cpp -o getisord.o /opt/ohpc/pub/compiler/gcc/14.2.0/bin/aarch64-unknown-linux-gnu-g++ -std=gnu++17 -I"/home/biocbuild/R/R-4.5.0/include" -DNDEBUG -I'/home/biocbuild/R/R-4.5.0/site-library/Rcpp/include' -I'/home/biocbuild/R/R-4.5.0/site-library/RcppArmadillo/include' -I'/home/biocbuild/R/R-4.5.0/site-library/RcppParallel/include' -I'/home/biocbuild/R/R-4.5.0/site-library/RcppEigen/include' -I'/home/biocbuild/R/R-4.5.0/site-library/dqrng/include' -I/usr/local/include -fopenmp -DARMA_64BIT_WORD -DNDEBUG -DEIGEN_DONT_VECTORIZE -fPIC -g -O2 -Wall -Werror=format-security -c kld.cpp -o kld.o /opt/ohpc/pub/compiler/gcc/14.2.0/bin/aarch64-unknown-linux-gnu-g++ -std=gnu++17 -I"/home/biocbuild/R/R-4.5.0/include" -DNDEBUG -I'/home/biocbuild/R/R-4.5.0/site-library/Rcpp/include' -I'/home/biocbuild/R/R-4.5.0/site-library/RcppArmadillo/include' -I'/home/biocbuild/R/R-4.5.0/site-library/RcppParallel/include' -I'/home/biocbuild/R/R-4.5.0/site-library/RcppEigen/include' -I'/home/biocbuild/R/R-4.5.0/site-library/dqrng/include' -I/usr/local/include -fopenmp -DARMA_64BIT_WORD -DNDEBUG -DEIGEN_DONT_VECTORIZE -fPIC -g -O2 -Wall -Werror=format-security -c lisa.cpp -o lisa.o /opt/ohpc/pub/compiler/gcc/14.2.0/bin/aarch64-unknown-linux-gnu-g++ -std=gnu++17 -I"/home/biocbuild/R/R-4.5.0/include" -DNDEBUG -I'/home/biocbuild/R/R-4.5.0/site-library/Rcpp/include' -I'/home/biocbuild/R/R-4.5.0/site-library/RcppArmadillo/include' -I'/home/biocbuild/R/R-4.5.0/site-library/RcppParallel/include' -I'/home/biocbuild/R/R-4.5.0/site-library/RcppEigen/include' -I'/home/biocbuild/R/R-4.5.0/site-library/dqrng/include' -I/usr/local/include -fopenmp -DARMA_64BIT_WORD -DNDEBUG -DEIGEN_DONT_VECTORIZE -fPIC -g -O2 -Wall -Werror=format-security -c mca.cpp -o mca.o /opt/ohpc/pub/compiler/gcc/14.2.0/bin/aarch64-unknown-linux-gnu-g++ -std=gnu++17 -I"/home/biocbuild/R/R-4.5.0/include" -DNDEBUG -I'/home/biocbuild/R/R-4.5.0/site-library/Rcpp/include' -I'/home/biocbuild/R/R-4.5.0/site-library/RcppArmadillo/include' -I'/home/biocbuild/R/R-4.5.0/site-library/RcppParallel/include' -I'/home/biocbuild/R/R-4.5.0/site-library/RcppEigen/include' -I'/home/biocbuild/R/R-4.5.0/site-library/dqrng/include' -I/usr/local/include -fopenmp -DARMA_64BIT_WORD -DNDEBUG -DEIGEN_DONT_VECTORIZE -fPIC -g -O2 -Wall -Werror=format-security -c metric.cpp -o metric.o /opt/ohpc/pub/compiler/gcc/14.2.0/bin/aarch64-unknown-linux-gnu-g++ -std=gnu++17 -I"/home/biocbuild/R/R-4.5.0/include" -DNDEBUG -I'/home/biocbuild/R/R-4.5.0/site-library/Rcpp/include' -I'/home/biocbuild/R/R-4.5.0/site-library/RcppArmadillo/include' -I'/home/biocbuild/R/R-4.5.0/site-library/RcppParallel/include' -I'/home/biocbuild/R/R-4.5.0/site-library/RcppEigen/include' -I'/home/biocbuild/R/R-4.5.0/site-library/dqrng/include' -I/usr/local/include -fopenmp -DARMA_64BIT_WORD -DNDEBUG -DEIGEN_DONT_VECTORIZE -fPIC -g -O2 -Wall -Werror=format-security -c moransi.cpp -o moransi.o /opt/ohpc/pub/compiler/gcc/14.2.0/bin/aarch64-unknown-linux-gnu-g++ -std=gnu++17 -I"/home/biocbuild/R/R-4.5.0/include" -DNDEBUG -I'/home/biocbuild/R/R-4.5.0/site-library/Rcpp/include' -I'/home/biocbuild/R/R-4.5.0/site-library/RcppArmadillo/include' -I'/home/biocbuild/R/R-4.5.0/site-library/RcppParallel/include' -I'/home/biocbuild/R/R-4.5.0/site-library/RcppEigen/include' -I'/home/biocbuild/R/R-4.5.0/site-library/dqrng/include' -I/usr/local/include -fopenmp -DARMA_64BIT_WORD -DNDEBUG -DEIGEN_DONT_VECTORIZE -fPIC -g -O2 -Wall -Werror=format-security -c pairknn.cpp -o pairknn.o /opt/ohpc/pub/compiler/gcc/14.2.0/bin/aarch64-unknown-linux-gnu-g++ -std=gnu++17 -I"/home/biocbuild/R/R-4.5.0/include" -DNDEBUG -I'/home/biocbuild/R/R-4.5.0/site-library/Rcpp/include' -I'/home/biocbuild/R/R-4.5.0/site-library/RcppArmadillo/include' -I'/home/biocbuild/R/R-4.5.0/site-library/RcppParallel/include' -I'/home/biocbuild/R/R-4.5.0/site-library/RcppEigen/include' -I'/home/biocbuild/R/R-4.5.0/site-library/dqrng/include' -I/usr/local/include -fopenmp -DARMA_64BIT_WORD -DNDEBUG -DEIGEN_DONT_VECTORIZE -fPIC -g -O2 -Wall -Werror=format-security -c rwr.cpp -o rwr.o /opt/ohpc/pub/compiler/gcc/14.2.0/bin/aarch64-unknown-linux-gnu-g++ -std=gnu++17 -shared -L/home/biocbuild/R/R-4.5.0/lib -L/usr/local/lib -o SVP.so RcppExports.o autocorutils.o bisp.o cor.o extract.o gearysc.o getisord.o kld.o lisa.o mca.o metric.o moransi.o pairknn.o rwr.o -fopenmp -lopenblas -lgfortran -lm -L/home/biocbuild/R/R-4.5.0/lib -lR installing to /home/biocbuild/R/R-4.5.0/site-library/00LOCK-SVP/00new/SVP/libs ** R ** data ** byte-compile and prepare package for lazy loading ** help *** installing help indices ** building package indices ** installing vignettes ** testing if installed package can be loaded from temporary location ** checking absolute paths in shared objects and dynamic libraries ** testing if installed package can be loaded from final location ** testing if installed package keeps a record of temporary installation path * DONE (SVP)