Package: SVP Version: 1.2.1 Command: /Library/Frameworks/R.framework/Resources/bin/R CMD check --install=check:SVP.install-out.txt --library=/Library/Frameworks/R.framework/Resources/library --no-vignettes --timings SVP_1.2.1.tar.gz StartedAt: 2025-11-04 00:43:10 -0500 (Tue, 04 Nov 2025) EndedAt: 2025-11-04 00:48:27 -0500 (Tue, 04 Nov 2025) EllapsedTime: 316.7 seconds RetCode: 0 Status: OK CheckDir: SVP.Rcheck Warnings: 0