Package: SVMDO Version: 1.8.0 Command: rm -rf SVMDO.buildbin-libdir && mkdir SVMDO.buildbin-libdir && /Users/biocbuild/BBS/utils/build-universal.sh SVMDO_1.8.0.tar.gz /Library/Frameworks/R.framework/Resources/bin/R SVMDO.buildbin-libdir StartedAt: 2025-04-21 22:54:36 -0400 (Mon, 21 Apr 2025) EndedAt: 2025-04-21 22:54:51 -0400 (Mon, 21 Apr 2025) EllapsedTime: 15.4 seconds RetCode: 0 Status: OK PackageFile: SVMDO_1.8.0.tgz PackageFileSize: 2.364 MiB