Package: SVMDO Version: 1.8.0 Command: /Library/Frameworks/R.framework/Resources/bin/R CMD INSTALL SVMDO StartedAt: 2025-10-13 17:46:22 -0400 (Mon, 13 Oct 2025) EndedAt: 2025-10-13 17:47:04 -0400 (Mon, 13 Oct 2025) EllapsedTime: 42.2 seconds RetCode: 0 Status: OK