Package: SUITOR Version: 1.11.0 Command: /home/biocbuild/R/R/bin/R CMD check --install=check:SUITOR.install-out.txt --library=/home/biocbuild/R/R/site-library --no-vignettes --timings SUITOR_1.11.0.tar.gz StartedAt: 2025-10-17 14:14:38 -0000 (Fri, 17 Oct 2025) EndedAt: 2025-10-17 14:15:53 -0000 (Fri, 17 Oct 2025) EllapsedTime: 75.1 seconds RetCode: 0 Status: OK CheckDir: SUITOR.Rcheck Warnings: 0