Package: SUITOR Version: 1.11.0 Command: rm -rf SUITOR.buildbin-libdir && mkdir SUITOR.buildbin-libdir && F:\biocbuild\bbs-3.22-bioc\R\bin\R.exe CMD INSTALL --build --library=SUITOR.buildbin-libdir SUITOR_1.11.0.tar.gz StartedAt: 2025-08-15 11:26:38 -0400 (Fri, 15 Aug 2025) EndedAt: 2025-08-15 11:26:54 -0400 (Fri, 15 Aug 2025) EllapsedTime: 16.0 seconds RetCode: 0 Status: OK PackageFile: SUITOR_1.11.0.zip PackageFileSize: 315.5 KiB