Package: SUITOR Version: 1.12.0 Command: /home/biocbuild/bbs-3.22-bioc/R/bin/R CMD INSTALL SUITOR StartedAt: 2025-11-06 15:07:16 -0500 (Thu, 06 Nov 2025) EndedAt: 2025-11-06 15:07:30 -0500 (Thu, 06 Nov 2025) EllapsedTime: 14.1 seconds RetCode: 0 Status: OK