Package: SUITOR Version: 1.12.0 Command: /home/biocbuild/bbs-3.22-bioc/R/bin/R CMD check --install=check:SUITOR.install-out.txt --library=/home/biocbuild/bbs-3.22-bioc/R/site-library --timings SUITOR_1.12.0.tar.gz StartedAt: 2025-11-07 04:39:40 -0500 (Fri, 07 Nov 2025) EndedAt: 2025-11-07 04:41:24 -0500 (Fri, 07 Nov 2025) EllapsedTime: 104.1 seconds RetCode: 0 Status: OK CheckDir: SUITOR.Rcheck Warnings: 0