Package: SUITOR Version: 1.12.0 Command: /home/biocbuild/bbs-3.22-bioc/R/bin/R CMD build --keep-empty-dirs --no-resave-data --md5 SUITOR StartedAt: 2025-11-06 20:23:52 -0500 (Thu, 06 Nov 2025) EndedAt: 2025-11-06 20:24:51 -0500 (Thu, 06 Nov 2025) EllapsedTime: 59.0 seconds RetCode: 0 Status: OK PackageFile: SUITOR_1.12.0.tar.gz PackageFileSize: 265.9 KiB