Package: STRINGdb Version: 2.21.0 Command: /home/biocbuild/R/R/bin/R CMD check --install=check:STRINGdb.install-out.txt --library=/home/biocbuild/R/R/site-library --no-vignettes --timings STRINGdb_2.21.0.tar.gz StartedAt: 2025-10-17 14:12:11 -0000 (Fri, 17 Oct 2025) EndedAt: 2025-10-17 14:19:00 -0000 (Fri, 17 Oct 2025) EllapsedTime: 408.9 seconds RetCode: 0 Status: OK CheckDir: STRINGdb.Rcheck Warnings: 0