Package: STRINGdb Version: 2.21.0 Command: /home/biocbuild/R/R/bin/R CMD build --keep-empty-dirs --no-resave-data STRINGdb StartedAt: 2025-10-21 03:33:18 -0000 (Tue, 21 Oct 2025) EndedAt: 2025-10-21 03:40:25 -0000 (Tue, 21 Oct 2025) EllapsedTime: 427.2 seconds RetCode: 0 Status: OK PackageFile: STRINGdb_2.21.0.tar.gz PackageFileSize: 9.941 MiB